BEGIN:VCALENDAR
VERSION:2.0
PRODID:icalendar-ruby
CALSCALE:GREGORIAN
BEGIN:VEVENT
DTSTAMP:20260426T022755Z
UID:aa15db7a-78ac-4f48-84b6-c5d19a9cf38d
DTSTART:20191120T170000
DTEND:20191120T190000
LOCATION:133 Peachtree St NE\, Suite 2900
SUMMARY:Come to Invest Atlanta’s Small Business Loan Seminar and access m
 oney to start or grow your business.
URL:/about-us/events/small-business-loan-seminar-11-20-19
END:VEVENT
END:VCALENDAR
