BEGIN:VCALENDAR
VERSION:2.0
PRODID:icalendar-ruby
CALSCALE:GREGORIAN
BEGIN:VEVENT
DTSTAMP:20260423T150117Z
UID:64cd7d83-2b9e-4926-a46f-a694d742269d
DTSTART:20190109T170000
DTEND:20190109T183000
LOCATION:133 Peachtree St NE\, Suite 2900
SUMMARY:If You Envision Homeownership in 2018\, Join INVEST ATLANTA for Add
 itional Perspective
URL:/about-us/events/qa-session-invest-atlanta-homebuyer-incentives-1-9-19
END:VEVENT
END:VCALENDAR
