BEGIN:VCALENDAR
VERSION:2.0
PRODID:icalendar-ruby
CALSCALE:GREGORIAN
BEGIN:VEVENT
DTSTAMP:20260426T023635Z
UID:07ef90a1-1639-4461-b453-047d50b0bb91
DTSTART:20190313T170000
DTEND:20190313T183000
LOCATION:133 Peachtree St NE\, Suite 2900
SUMMARY:If You Envision Homeownership in 2018\, Join INVEST ATLANTA for Add
 itional Perspective
URL:/about-us/events/qa-session-invest-atlanta-homebuyer-incentives-3-13-19
END:VEVENT
END:VCALENDAR
