BEGIN:VCALENDAR
VERSION:2.0
PRODID:icalendar-ruby
CALSCALE:GREGORIAN
BEGIN:VEVENT
DTSTAMP:20260426T023517Z
UID:d99e5869-4ab9-4df6-a34b-821684f1ee84
DTSTART:20190410T170000
DTEND:20190410T183000
LOCATION:133 Peachtree St NE\, Suite 2900
SUMMARY:If You Envision Homeownership in 2018\, Join INVEST ATLANTA for Add
 itional Perspective
URL:/about-us/events/qa-session-invest-atlanta-homebuyer-incentives-4-10-19
END:VEVENT
END:VCALENDAR
