BEGIN:VCALENDAR
VERSION:2.0
PRODID:icalendar-ruby
CALSCALE:GREGORIAN
BEGIN:VEVENT
DTSTAMP:20260426T023619Z
UID:94f22e2c-df12-43a2-b69f-02776381ef6c
DTSTART:20181204T114500
DTEND:20181204T120000
LOCATION:Atlanta City Hall\, Committee Room 2\, 55 Trinity Avenue\, SW\, At
 lanta GA 30303-3584
SUMMARY:Special Called Board Meeting of the Board of Directors of the Atlan
 ta Development Authority d/b/a Invest Atlanta
URL:/about-us/events/special-called-invest-atlanta-board-of-directors-meeti
 ng
END:VEVENT
END:VCALENDAR
