BEGIN:VCALENDAR
VERSION:2.0
PRODID:icalendar-ruby
CALSCALE:GREGORIAN
BEGIN:VEVENT
DTSTAMP:20260426T043655Z
UID:eaf70bfa-7371-46f2-b673-6965d2e4c925
DTSTART:20190110T153000
DTEND:20190110T163000
LOCATION:133 PEACHTREE ST. NE\, SUITE 2900\, ATLANTA\, GA 30303
SUMMARY:Meetings of the Invest Atlanta Economic Development Committee will 
 be held at Invest Atlanta from 3:30-4:30 P.M.
URL:/about-us/events/invest-atlanta-economic-development-committee-meeting-
 1-10-19
END:VEVENT
END:VCALENDAR
