BEGIN:VCALENDAR
VERSION:2.0
PRODID:icalendar-ruby
CALSCALE:GREGORIAN
BEGIN:VEVENT
DTSTAMP:20260426T023716Z
UID:9a7a2f75-8cce-49e3-86d7-6439375a8c5e
DTSTART:20190411T130000
DTEND:20190411T140000
LOCATION:133 PEACHTREE ST. NE\, SUITE 2900\, ATLANTA\, GA 30303
SUMMARY:Meetings of the Invest Atlanta Housing Committee and the URFA Housi
 ng Committee will be held at Invest Atlanta from 1:00-2:00 P.M.
URL:/about-us/events/invest-atlanta-housing-committee-urfa-housing-committe
 e-4-11-19
END:VEVENT
END:VCALENDAR
