BEGIN:VCALENDAR
VERSION:2.0
PRODID:icalendar-ruby
CALSCALE:GREGORIAN
BEGIN:VEVENT
DTSTAMP:20260422T012847Z
UID:03793420-8cef-4762-8572-9ae37e3db9a9
DTSTART:20190519T130000
DTEND:20190519T140000
LOCATION:133 PEACHTREE ST. NE\, SUITE 2900\, ATLANTA\, GA 30303
SUMMARY:Meetings of the Invest Atlanta Housing Committee and the URFA Housi
 ng Committee will be held at Invest Atlanta from 1:00-2:00 P.M.
URL:/about-us/events/invest-atlanta-housing-committee-urfa-housing-committe
 e-5-9-19
END:VEVENT
END:VCALENDAR
