BEGIN:VCALENDAR
VERSION:2.0
PRODID:icalendar-ruby
CALSCALE:GREGORIAN
BEGIN:VEVENT
DTSTAMP:20260426T044117Z
UID:83db6973-35fc-4555-aebc-38fb0ea234a8
DTSTART:20190613T130000
DTEND:20190613T140000
LOCATION:133 PEACHTREE ST. NE\, SUITE 2900\, ATLANTA\, GA 30303
SUMMARY:Meetings of the Invest Atlanta Housing Committee and the URFA Housi
 ng Committee will be held at Invest Atlanta from 1:00-2:00 P.M.
URL:/about-us/events/invest-atlanta-housing-committee-urfa-housing-committe
 e-6-13-19
END:VEVENT
END:VCALENDAR
