BEGIN:VCALENDAR
VERSION:2.0
PRODID:icalendar-ruby
CALSCALE:GREGORIAN
BEGIN:VEVENT
DTSTAMP:20260423T155720Z
UID:0d3d82d8-5b00-47da-a4f1-a5523816094f
DTSTART:20191212T130000
DTEND:20191212T140000
LOCATION:133 PEACHTREE ST. NE\, SUITE 2900\, ATLANTA\, GA 30303
SUMMARY:Meetings of the Invest Atlanta Housing Committee and the URFA Housi
 ng Committee will be held at Invest Atlanta from 1:00-2:00 P.M.
URL:/about-us/events/invest-atlanta-housing-committee-urfa-housing-committe
 e-12-12-19
END:VEVENT
END:VCALENDAR
