BEGIN:VCALENDAR
VERSION:2.0
PRODID:icalendar-ruby
CALSCALE:GREGORIAN
BEGIN:VEVENT
DTSTAMP:20260426T023437Z
UID:ea810309-9f7d-4d0b-a055-ee6a8a2d312d
DTSTART:20190214T140000
DTEND:20190214T153000
LOCATION:133 PEACHTREE ST. NE\, SUITE 2900\, ATLANTA\, GA 30303
SUMMARY:Meetings of the Tax Allocation District Project and Policy Review C
 ommittee will be held at Invest Atlanta from 2:00-3:30 P.M.
URL:/about-us/events/invest-atlanta-tax-allocation-district-project-and-pol
 icy-review-committee-2-14-19
END:VEVENT
END:VCALENDAR
