BEGIN:VCALENDAR
VERSION:2.0
PRODID:icalendar-ruby
CALSCALE:GREGORIAN
BEGIN:VEVENT
DTSTAMP:20260426T023431Z
UID:dd53c710-e4c8-45eb-b0e8-3fd7e9a8bfd6
DTSTART:20190314T140000
DTEND:20190314T153000
LOCATION:133 PEACHTREE ST. NE\, SUITE 2900\, ATLANTA\, GA 30303
SUMMARY:Meetings of the Tax Allocation District Project and Policy Review C
 ommittee will be held at Invest Atlanta from 2:00-3:30 P.M.
URL:/about-us/events/invest-atlanta-tax-allocation-district-project-and-pol
 icy-review-committee-3-14-19
END:VEVENT
END:VCALENDAR
