BEGIN:VCALENDAR
VERSION:2.0
PRODID:icalendar-ruby
CALSCALE:GREGORIAN
BEGIN:VEVENT
DTSTAMP:20260426T044117Z
UID:428b53c6-e596-40ca-b1ce-2f9bebb1edfe
DTSTART:20191010T140000
DTEND:20191010T153000
LOCATION:133 PEACHTREE ST. NE\, SUITE 2900\, ATLANTA\, GA 30303
SUMMARY:Meetings of the Tax Allocation District Project and Policy Review C
 ommittee will be held at Invest Atlanta from 2:00-3:30 P.M.
URL:/about-us/events/invest-atlanta-tax-allocation-district-project-and-pol
 icy-review-committee-10-10-19
END:VEVENT
END:VCALENDAR
