BEGIN:VCALENDAR
VERSION:2.0
PRODID:icalendar-ruby
CALSCALE:GREGORIAN
BEGIN:VEVENT
DTSTAMP:20260426T043940Z
UID:f26cdbab-36d9-4713-a885-bf097c5203b4
DTSTART:20191114T140000
DTEND:20191114T153000
LOCATION:133 PEACHTREE ST. NE\, SUITE 2900\, ATLANTA\, GA 30303
SUMMARY:Meetings of the Tax Allocation District Project and Policy Review C
 ommittee will be held at Invest Atlanta from 2:00-3:30 P.M.
URL:/about-us/events/invest-atlanta-tax-allocation-district-project-and-pol
 icy-review-committee-11-14-19
END:VEVENT
END:VCALENDAR
