BEGIN:VCALENDAR
VERSION:2.0
PRODID:icalendar-ruby
CALSCALE:GREGORIAN
BEGIN:VEVENT
DTSTAMP:20260426T023436Z
UID:6ee62641-188a-4d1b-bff2-425436972e53
DTSTART:20190314T153000
DTEND:20190314T163000
LOCATION:133 PEACHTREE ST. NE\, SUITE 2900\, ATLANTA\, GA 30303
SUMMARY:Meetings of the Invest Atlanta Economic Development Committee will 
 be held at Invest Atlanta from 3:30-4:30 P.M.
URL:/about-us/events/invest-atlanta-economic-development-committee-meeting-
 3-14-19
END:VEVENT
END:VCALENDAR
