BEGIN:VCALENDAR
VERSION:2.0
PRODID:icalendar-ruby
CALSCALE:GREGORIAN
BEGIN:VEVENT
DTSTAMP:20260426T023436Z
UID:2a0708f4-4c18-4e54-b20d-d3de5c1677c8
DTSTART:20190415T150000
DTEND:20190415T163000
LOCATION:133 PEACHTREE ST. NE\, SUITE 2900\, ATLANTA\, GA 30303
SUMMARY:Meetings of the Finance Committee will be held at Invest Atlanta fr
 om 3:00-4:30 P.M.
URL:/about-us/events/invest-atlanta-finance-committee-urfa-finance-committe
 e-dda-finance-committee-4-15-19
END:VEVENT
END:VCALENDAR
