BEGIN:VCALENDAR
VERSION:2.0
PRODID:icalendar-ruby
CALSCALE:GREGORIAN
BEGIN:VEVENT
DTSTAMP:20260425T210546Z
UID:9d28d97b-c865-4491-91f4-c9ddcc0c9efe
DTSTART:20190812T150000
DTEND:20190812T163000
LOCATION:133 PEACHTREE ST. NE\, SUITE 2900\, ATLANTA\, GA 30303
SUMMARY:Meetings of the Finance Committee will be held at Invest Atlanta fr
 om 3:00-4:30 P.M.
URL:/about-us/events/invest-atlanta-finance-committee-urfa-finance-committe
 e-dda-finance-committee-8-12-19
END:VEVENT
END:VCALENDAR
