BEGIN:VCALENDAR
VERSION:2.0
PRODID:icalendar-ruby
CALSCALE:GREGORIAN
BEGIN:VEVENT
DTSTAMP:20260425T105513Z
UID:c4a41b00-34a8-415b-b430-ca190c0a5586
DTSTART:20190606T180000
DTEND:20190606T193000
LOCATION:Atlanta City Hall\, 55 Trinity Ave.\, 2nd Floor\, Suite 2800\, Com
 mittee Room 2\, Atlanta\, GA 30303
SUMMARY:We will be hosting a Creative Industries Loan Fund information sess
 ion. Come prepared to learn more about the program and its benefits!
URL:/about-us/events/creative-industries-loan-fund-information-session-june
 -2019
END:VEVENT
END:VCALENDAR
