BEGIN:VCALENDAR
VERSION:2.0
PRODID:icalendar-ruby
CALSCALE:GREGORIAN
BEGIN:VEVENT
DTSTAMP:20260425T105849Z
UID:7e9e59df-51ac-4d57-a358-82e6e6d42f87
DTSTART:20190604T083000
DTEND:20190604T113000
LOCATION:MET Atlanta\, 675 Metropolitan Parkway SW\, Atlanta\, GA 30310
SUMMARY:Invest Atlanta invites you to join the Urban League of Greater Atla
 nta and the U.S. Department of Housing and Urban Development for a discuss
 ion on Federal Opportunity Zones.
URL:/about-us/events/federal-opportunity-zone-empowerment-forum
END:VEVENT
END:VCALENDAR
