BEGIN:VCALENDAR
VERSION:2.0
PRODID:icalendar-ruby
CALSCALE:GREGORIAN
BEGIN:VEVENT
DTSTAMP:20260422T141939Z
UID:3a11fdbe-a849-43ca-91b8-6bf860943bbc
DTSTART:20200429T170000
DTEND:20200429T190000
LOCATION:133 Peachtree St NE\, Suite 2900
SUMMARY:Come to Invest Atlanta’s Small Business Loan Seminar and access m
 oney to start or grow your business.
URL:/about-us/events/small-business-loan-seminar-4-29-2020
END:VEVENT
END:VCALENDAR
