BEGIN:VCALENDAR
VERSION:2.0
PRODID:icalendar-ruby
CALSCALE:GREGORIAN
BEGIN:VEVENT
DTSTAMP:20260426T022734Z
UID:c0766c95-32b9-4ce4-ae75-cc5e6325c6ab
DTSTART:20191113T180000
DTEND:20191113T193000
LOCATION:Atlanta City Hall\, 55 Trinity Ave.\, 2nd Floor\, Suite 2800\, Com
 mittee Room 2\, Atlanta\, GA 30303
SUMMARY:We will be hosting a Creative Industries Loan Fund information sess
 ion. Come prepared to learn more about the program and its benefits!
URL:/about-us/events/creative-industries-loan-fund-information-session-nov-
 2019
END:VEVENT
END:VCALENDAR
