BEGIN:VCALENDAR
VERSION:2.0
PRODID:icalendar-ruby
CALSCALE:GREGORIAN
BEGIN:VEVENT
DTSTAMP:20260425T230121Z
UID:19c50c28-352f-42a4-a09a-ea7e01c171c4
DTSTART:20191121T090000
DTEND:20191121T100000
LOCATION:133 PEACHTREE ST. NE\, SUITE 2900\, ATLANTA\, GA 30303
SUMMARY:The Board of Directors of the Atlanta Development Authority d/b/a I
 nvest Atlanta (“Invest Atlanta”) meets on the third Thursday of every 
 month from 9:00 A.M. to 10:00 A.M.\, unless noted. 
URL:/about-us/events/invest-atlanta-montly-board-of-directors-meeting-11-21
 -19
END:VEVENT
END:VCALENDAR
