BEGIN:VCALENDAR
VERSION:2.0
PRODID:icalendar-ruby
CALSCALE:GREGORIAN
BEGIN:VEVENT
DTSTAMP:20260426T023737Z
UID:e7fa3a2e-b374-4bbf-8efe-80481524d3da
DTSTART:20200108T170000
DTEND:20200108T183000
LOCATION:133 Peachtree St NE\, Suite 2900
SUMMARY:If You Envision Homeownership in 2020\, Join INVEST ATLANTA for Add
 itional Perspective
URL:/about-us/events/qa-session-invest-atlanta-homebuyer-incentives-1-8-20
END:VEVENT
END:VCALENDAR
