BEGIN:VCALENDAR
VERSION:2.0
PRODID:icalendar-ruby
CALSCALE:GREGORIAN
BEGIN:VEVENT
DTSTAMP:20260425T110141Z
UID:bb59d140-1fd2-4ad5-b886-ba92bd7ea141
DTSTART:20180407T090000
DTEND:20180407T110000
LOCATION:Atlanta Technical College\, 1560 Metropolitan Parkway SE\, Atlanta
 \, GA 30310
SUMMARY:The third citywide information session about the Heritage Owner-Occ
 upied Rehab intiative. 
URL:/about-us/events/heritage-owner-occupied-rehab-community-meeting-3
END:VEVENT
END:VCALENDAR
