BEGIN:VCALENDAR
VERSION:2.0
PRODID:icalendar-ruby
CALSCALE:GREGORIAN
BEGIN:VEVENT
DTSTAMP:20260426T023447Z
UID:b38335d9-de98-4622-bece-11ba5ee4bfb4
DTSTART:20200528T170000
DTEND:20200528T183000
LOCATION:133 Peachtree St NE\, Suite 2900
SUMMARY:If You Envision Homeownership in 2020\, Join INVEST ATLANTA for Add
 itional Perspective
URL:/about-us/events/qa-session-invest-atlanta-homebuyer-incentives-5-28-20
END:VEVENT
END:VCALENDAR
