BEGIN:VCALENDAR
VERSION:2.0
PRODID:icalendar-ruby
CALSCALE:GREGORIAN
BEGIN:VEVENT
DTSTAMP:20260426T023517Z
UID:40d2dbaf-b63b-4cb8-9229-cd6593a5a105
DTSTART:20200708T170000
DTEND:20200708T183000
LOCATION:133 Peachtree St NE\, Suite 2900
SUMMARY:If You Envision Homeownership in 2020\, Join INVEST ATLANTA for Add
 itional Perspective
URL:/about-us/events/qa-session-invest-atlanta-homebuyer-incentives-7-8-20
END:VEVENT
END:VCALENDAR
