BEGIN:VCALENDAR
VERSION:2.0
PRODID:icalendar-ruby
CALSCALE:GREGORIAN
BEGIN:VEVENT
DTSTAMP:20260426T023314Z
UID:eeb184a7-f3af-435d-b8a5-fca146266695
DTSTART:20200909T180000
DTEND:20200909T200000
LOCATION:133 Peachtree St NE\, Suite 2900
SUMMARY:If you envision homeownership in the near future\, attend the Inves
 t Atlanta Homebuyer Q &amp\; A Session webinar for a new perspective!
URL:/about-us/events/qa-session-invest-atlanta-homebuyer-incentives-9-9-20
END:VEVENT
END:VCALENDAR
