BEGIN:VCALENDAR
VERSION:2.0
PRODID:icalendar-ruby
CALSCALE:GREGORIAN
BEGIN:VEVENT
DTSTAMP:20260426T023325Z
UID:b9b7130f-e880-46e0-b4cd-d95ee2e76c95
DTSTART:20201104T180000
DTEND:20201104T200000
LOCATION:Invest Atlanta Zoom & Facebook Live
SUMMARY:If you envision homeownership in the near future\, attend the Inves
 t Atlanta Homebuyer Q&amp\;A Session webinar for a new perspective!
URL:/about-us/events/qa-session-invest-atlanta-homebuyer-incentives-11-4-20
END:VEVENT
END:VCALENDAR
