BEGIN:VCALENDAR
VERSION:2.0
PRODID:icalendar-ruby
CALSCALE:GREGORIAN
BEGIN:VEVENT
DTSTAMP:20260426T023737Z
UID:47753468-9e05-439e-b9a1-628ba43e0c47
DTSTART:20200716T090000
DTEND:20200716T100000
LOCATION:Invest Atlanta Zoom
SUMMARY:Invest Atlanta will hold its regularly scheduled Board of Directors
  meeting on Thursday\, July 16\, 2020 at commencing at 9:00 a.m. Due to th
 e current public safety emergency caused by the COVID-19 virus\, as identi
 fied by Governor Kemp’s Executive Order 04.02.20.01 and Mayor Bottoms’
  Executive Order 2020-22\, the meeting will be held telephonically as auth
 orized by OCGA Section 50-14-1 (g).
URL:/about-us/events/invest-atlanta-montly-board-of-directors-meeting-7-16-
 20
END:VEVENT
END:VCALENDAR
