BEGIN:VCALENDAR
VERSION:2.0
PRODID:icalendar-ruby
CALSCALE:GREGORIAN
BEGIN:VEVENT
DTSTAMP:20260426T023320Z
UID:87d636ab-d51f-4207-8c2c-a017d6192625
DTSTART:20200109T140000
DTEND:20200109T153000
LOCATION:133 PEACHTREE ST. NE\, SUITE 2900\, ATLANTA\, GA 30303
SUMMARY:Meetings of the Tax Allocation District Project and Policy Review C
 ommittee will be held at Invest Atlanta from 2:00-3:30 P.M.
URL:/about-us/events/invest-atlanta-tax-allocation-district-project-and-pol
 icy-review-committee-01-09-20
END:VEVENT
END:VCALENDAR
