BEGIN:VCALENDAR
VERSION:2.0
PRODID:icalendar-ruby
CALSCALE:GREGORIAN
BEGIN:VEVENT
DTSTAMP:20260423T202831Z
UID:5d184d8a-ac94-4537-bf2e-bcb510ec00fb
DTSTART:20200611T140000
DTEND:20200611T153000
LOCATION:Invest Atlanta Zoom
SUMMARY:Invest Atlanta will hold the Tax Allocation District Project and Po
 licy Review Committee Meeting on Thursday\, June 11\, 2020 commencing at 2
 :00 p.m.  Due to the current public safety emergency caused by the COVID-
 19 virus\, as identified by Governor Kemp’s Executive Order 04.02.20.01 
 and Mayor Bottoms’ Executive Order 2020-22\, the meeting will be held te
 lephonically as authorized by OCGA Section 50-14-1 (g).
URL:/about-us/events/invest-atlanta-tax-allocation-district-project-and-pol
 icy-review-committee-6-11-2020
END:VEVENT
END:VCALENDAR
