BEGIN:VCALENDAR
VERSION:2.0
PRODID:icalendar-ruby
CALSCALE:GREGORIAN
BEGIN:VEVENT
DTSTAMP:20260426T023324Z
UID:0d6c5001-3786-4747-a60a-6a058ab19fd0
DTSTART:20200514T153000
DTEND:20200514T163000
LOCATION:133 PEACHTREE ST. NE\, SUITE 2900\, ATLANTA\, GA 30303
SUMMARY:Invest Atlanta will hold the Economic Development Committee Meeting
  on Thursday\, May 14\, 2020\, commencing at 3:30 p.m.
URL:/about-us/events/invest-atlanta-economic-development-committee-meeting-
 5-14-2020
END:VEVENT
END:VCALENDAR
