BEGIN:VCALENDAR
VERSION:2.0
PRODID:icalendar-ruby
CALSCALE:GREGORIAN
BEGIN:VEVENT
DTSTAMP:20260426T023430Z
UID:c7f362ec-f23a-4068-a94b-4654ff463c67
DTSTART:20200409T130000
DTEND:20200409T140000
LOCATION:133 PEACHTREE ST. NE\, SUITE 2900\, ATLANTA\, GA 30303
SUMMARY:Invest Atlanta will hold The Urban Residential Finance Authority of
  the City of Atlanta\, Georgia Housing Committee Meeting on Thursday\, Apr
 il 9\, 2020 commencing at 1:00 p.m.  Due to the current public safety eme
 rgency caused by the COVID-19 virus\, as identified by Governor Kemp’s E
 xecutive Order 04.02.20.01 and Mayor Bottoms’ Executive Order 2020-22\, 
 the meeting will be held telephonically as authorized by OCGA Section 50-1
 4-1 (g).
URL:/about-us/events/invest-atlanta-housing-committee-urfa-housing-committe
 e-4-9-2020
END:VEVENT
END:VCALENDAR
