BEGIN:VCALENDAR
VERSION:2.0
PRODID:icalendar-ruby
CALSCALE:GREGORIAN
BEGIN:VEVENT
DTSTAMP:20260426T023058Z
UID:d2b0016f-65ca-41b5-8b73-07f35de3df97
DTSTART:20200515T140000
DTEND:20200515T143000
LOCATION:https://www.facebook.com/InvestAtlanta/
SUMMARY:Join us May 15 @ 2:00 PM for a conversation with John H. Moye\, Dir
 ector of the Office for Policy &amp\; Legislative Affairs at the Urban Lea
 gue of Greater Atlanta\, on how developers and small business owners can 
 promote social impact outcomes in OZs.
URL:/about-us/events/federal-ozs-covid-19-urban-league
END:VEVENT
END:VCALENDAR
