BEGIN:VCALENDAR
VERSION:2.0
PRODID:icalendar-ruby
CALSCALE:GREGORIAN
BEGIN:VEVENT
DTSTAMP:20260421T171807Z
UID:6e564b86-dbca-4211-a430-bf7b15994b6b
DTSTART:20200519T100000
DTEND:20200519T103000
LOCATION:Invest Atlanta Facebook Live Stream
SUMMARY:Join us May 12th @ 10 AM for our weekly Small Business Tuesday Talk
 \, where we sit down with small business owners located throughout the cit
 y of Atlanta. This week\, Sabrina Young Wright\, Assistant Director of Bus
 iness Retention\, Expansion\, and Workforce Programs at Invest Atlanta\, w
 ill be speaking to Steak Shapiro\, Co-Founder of Atlanta Eats. Learn more 
 and watch on Facebook by using the link below!
URL:/about-us/events/small-business-tuesday-talks-atlanta-eats
END:VEVENT
END:VCALENDAR
