BEGIN:VCALENDAR
VERSION:2.0
PRODID:icalendar-ruby
CALSCALE:GREGORIAN
BEGIN:VEVENT
DTSTAMP:20260423T074751Z
UID:aae97619-8008-46e4-b683-83ab83452a99
DTSTART:20200521T150000
DTEND:20200521T153000
LOCATION:https://www.facebook.com/InvestAtlanta/
SUMMARY:Join us Thursday\, May 21 @ 3 PM for a “What We Know Right Now”
  Live Stream for startups and scaleups\, featuring Mark Wilson of Chime So
 lutions\, on Solving Real Problems at Scale during COVID-19. Michelle Olym
 piadis of Atlanta Public Schools Board of Education will kick off the conv
 ersation. Aaron Hurst of Endeavor Atlanta will moderate a Q&amp\;A session
  at the conclusion of the discussion.
URL:/about-us/events/refocus-lessons-on-solving-real-problems-at-scale-duri
 ng-covid-19-live-stream
END:VEVENT
END:VCALENDAR
