BEGIN:VCALENDAR
VERSION:2.0
PRODID:icalendar-ruby
CALSCALE:GREGORIAN
BEGIN:VEVENT
DTSTAMP:20260425T210645Z
UID:98c6b846-9718-4082-a9da-3c904f169805
DTSTART:20200528T103000
DTEND:20200528T110000
LOCATION:https://www.facebook.com/InvestAtlanta/
SUMMARY:Join us Thursday\, May 28 @ 10:30 AM for a “What We Know Right No
 w” Live Stream for startups and scaleups\, featuring Shila Nieves Burney
  and Marguerite Pressley Davis of ZANE Venture Fund and Monica Hooks of t
 he Women's Entrepreneurship Initiative (WEI)\, on diverse founders and how
  COVID-19 impacts this group differently. James M. Bailey of the Russell C
 enter for Innovation and Entrepreneurship (RCIE) will moderate a Q&amp\;A 
 session at the conclusion of the discussion.
URL:/about-us/events/diverse-founders-how-covid-19-impacts-this-group-diffe
 rently-live-stream
END:VEVENT
END:VCALENDAR
