BEGIN:VCALENDAR
VERSION:2.0
PRODID:icalendar-ruby
CALSCALE:GREGORIAN
BEGIN:VEVENT
DTSTAMP:20260426T023726Z
UID:26c3446a-46ac-49e8-a53f-4be16f02a483
DTSTART:20200611T153000
DTEND:20200611T163000
LOCATION:Invest Atlanta Zoom
SUMMARY:Invest Atlanta will hold the Economic Development Committee Meeting
  on Thursday June 11\, 2020 commencing at 3:30 p.m.  Due to the current p
 ublic safety emergency caused by the COVID-19 virus\, as identified by Gov
 ernor Kemp’s Executive Order 04.02.20.01 and Mayor Bottoms’ Executive 
 Order 2020-22\, the meeting will be held telephonically as authorized by O
 CGA Section 50-14-1 (g).\n\n 
URL:/about-us/events/invest-atlanta-economic-development-committee-meeting
END:VEVENT
END:VCALENDAR
