BEGIN:VCALENDAR
VERSION:2.0
PRODID:icalendar-ruby
CALSCALE:GREGORIAN
BEGIN:VEVENT
DTSTAMP:20260426T044005Z
UID:1be76e30-dd88-4f3a-8db9-10efde245196
DTSTART:20200709T130000
DTEND:20200709T143000
LOCATION:Invest Atlanta Zoom
SUMMARY:NOTICE OF CANCELLATION\n\nPlease be advised that The Regular Meetin
 g of The Atlanta Development Authority d/b/a Invest Atlanta Housing Commit
 tee Meeting scheduled for Thursday\, July 9\, 2020\, at 1:00 p.m. has been
  cancelled.  The next meeting will be held on August 13\, 2020.
URL:/about-us/events/invest-atlanta-housing-committee-urfa-housing-committe
 e
END:VEVENT
END:VCALENDAR
