BEGIN:VCALENDAR
VERSION:2.0
PRODID:icalendar-ruby
CALSCALE:GREGORIAN
BEGIN:VEVENT
DTSTAMP:20260426T023635Z
UID:377c9933-28d1-40b9-ab6e-f828cbdec0de
DTSTART:20200713T150000
DTEND:20200713T163000
LOCATION:Invest Atlanta Zoom
SUMMARY:Invest Atlanta will hold the Finance Committee meeting on Monday\, 
 July 13\, 2020 commencing at 3:00 p.m. Due to the current public safety em
 ergency caused by the COVID-19 virus\, as identified by Governor Kemp’s 
 Executive Order 04.02.20.01 and Mayor Bottoms’ Executive Order 2020-22\,
  the meeting will be held telephonically as authorized by OCGA Section 50-
 14-1 (g).
URL:/about-us/events/invest-atlanta-finance-committee-urfa-finance-committe
 e-dda-finance-committee
END:VEVENT
END:VCALENDAR
