BEGIN:VCALENDAR
VERSION:2.0
PRODID:icalendar-ruby
CALSCALE:GREGORIAN
BEGIN:VEVENT
DTSTAMP:20260426T043330Z
UID:780e46b4-1857-4fa0-bad2-a77874c005a8
DTSTART:20200804T160000
DTEND:20200804T170000
LOCATION:Zoom Online Meeting
SUMMARY:Join Councilmember Dustin Hillis for a live presentation on the rec
 ently-launched Resurgence Grant Fund.
URL:/about-us/events/resurgence-grant-fund-webinar-councilmember-dustin-hil
 lis
END:VEVENT
END:VCALENDAR
