BEGIN:VCALENDAR
VERSION:2.0
PRODID:icalendar-ruby
CALSCALE:GREGORIAN
BEGIN:VEVENT
DTSTAMP:20260426T022806Z
UID:0238659c-15f2-4934-82d5-fa628d5e7373
DTSTART:20200805T160000
DTEND:20200805T170000
LOCATION:Zoom Online Meeting
SUMMARY:Join Councilmember Marci Collier Overstreet for a live presentation
  on the recently-launched Resurgence Grant Fund.
URL:/about-us/events/resurgence-grant-fund-webinar-councilmember-marci-coll
 ier-overstreet
END:VEVENT
END:VCALENDAR
