BEGIN:VCALENDAR
VERSION:2.0
PRODID:icalendar-ruby
CALSCALE:GREGORIAN
BEGIN:VEVENT
DTSTAMP:20260426T023752Z
UID:6100dd2a-5ac4-4611-b241-0d8fa613885a
DTSTART:20200813T153000
DTEND:20200813T163000
LOCATION:Invest Atlanta Zoom
SUMMARY:Invest Atlanta will hold the Economic Development Committee Meeting
  on Thursday August 13\, 2020 commencing at 3:30 p.m.  Due to the current
  public safety emergency caused by the COVID-19 virus\, as identified by G
 overnor Kemp’s Executive Order 04.02.20.01 and Mayor Bottoms’ Executiv
 e Order 2020-22\, the meeting will be held telephonically as authorized by
  OCGA Section 50-14-1 (g).\n\n 
URL:/about-us/events/invest-atlanta-economic-development-committee-meeting-
 8-13-20
END:VEVENT
END:VCALENDAR
