BEGIN:VCALENDAR
VERSION:2.0
PRODID:icalendar-ruby
CALSCALE:GREGORIAN
BEGIN:VEVENT
DTSTAMP:20260423T202410Z
UID:a078e495-6612-49f6-b310-8a0cee35a708
DTSTART:20200910T130000
DTEND:20200910T140000
LOCATION:Invest Atlanta Zoom 
SUMMARY:Invest Atlanta will hold the Housing Committee Meeting on Thursday\
 , September 10\, 2020 commencing at 1:00 p.m.  Due to the current public 
 safety emergency caused by the COVID-19 virus\, as identified by Governor 
 Kemp’s Executive Order 04.02.20.01 and Mayor Bottoms’ Executive Ord
 er 2020-22\, the meeting will be held telephonically as authorized by OCGA
  Section 50-14-1 (g).
URL:/about-us/events/invest-atlanta-housing-committee
END:VEVENT
END:VCALENDAR
