BEGIN:VCALENDAR
VERSION:2.0
PRODID:icalendar-ruby
CALSCALE:GREGORIAN
BEGIN:VEVENT
DTSTAMP:20260423T202531Z
UID:0057b882-e72d-4616-952f-96d549886e43
DTSTART:20200910T110000
DTEND:20200910T120000
LOCATION:Invest Atlanta Zoom 
SUMMARY:Invest Atlanta will hold the Economic Development Committee Meeting
  scheduled for Thursday September 10\, 2020 commencing at 3:30 p.m. at the
  rescheduled time of Thursday\, September 10\, 2020 commencing at 11:00 a.
 m.  Due to the current public safety emergency caused by the COVID-19 vir
 us\, as identified by Governor Kemp’s Executive Order 04.02.20.01 and 
 Mayor Bottoms’ Executive Order 2020-22\, the meeting will be held telep
 honically as authorized by OCGA Section 50-14-1 (g).
URL:/about-us/events/invest-atlanta-economic-development-committee-meeting-
 september
END:VEVENT
END:VCALENDAR
