BEGIN:VCALENDAR
VERSION:2.0
PRODID:icalendar-ruby
CALSCALE:GREGORIAN
BEGIN:VEVENT
DTSTAMP:20260426T023314Z
UID:ba6a0ae5-dbae-49b6-a0a3-62ade83a0959
DTSTART:20180510T153000
DTEND:20180510T163000
LOCATION:113 PEACHTREE ST. NE\, SUITE 2900\, ATLANTA\, GA 30303
SUMMARY:Meetings of the Invest Atlanta Economic Development Committee will 
 be held at Invest Atlanta from 3:30-4:30 P.M.
URL:/about-us/events/invest-atlanta-economic-development-committee-meeting-
 5-10-18
END:VEVENT
END:VCALENDAR
