BEGIN:VCALENDAR
VERSION:2.0
PRODID:icalendar-ruby
CALSCALE:GREGORIAN
BEGIN:VEVENT
DTSTAMP:20260426T023447Z
UID:1210c131-339b-4c04-9355-9125a229f150
DTSTART:20201008T130000
DTEND:20201008T140000
LOCATION:Invest Atlanta Zoom 
SUMMARY:Invest Atlanta will hold the Urban Residential Finance Authority of
  the City of Atlanta\, Georgia Housing Committee Meeting on Thursday\, Oct
 ober 8\, 2020 commencing at 1:00 p.m.  Due to the current public safety e
 mergency caused by the COVID-19 virus\, as identified by Governor Kemp’s
  Executive Order 04.02.20.01 and Mayor Bottoms’ Executive Orders  202
 0-22 and 2020-138\, the meeting will be held telephonically as authorize
 d by OCGA Section 50-14-1 (g).
URL:/about-us/events/invest-atlanta-housing-committee-urfa-housing-committe
 e-oct-2020
END:VEVENT
END:VCALENDAR
