BEGIN:VCALENDAR
VERSION:2.0
PRODID:icalendar-ruby
CALSCALE:GREGORIAN
BEGIN:VEVENT
DTSTAMP:20260423T202559Z
UID:b134d4e2-d0dd-41a5-a826-4b881c481c2e
DTSTART:20201008T153000
DTEND:20201008T163000
LOCATION:Invest Atlanta Zoom 
SUMMARY:Invest Atlanta will hold the Economic Development Committee Meeting
  on Thursday October 8\, 2020 commencing at 3:30 p.m. Due to the current p
 ublic safety emergency caused by the COVID-19 virus\, as identified by Gov
 ernor Kemp’s Executive Order 04.02.20.01 and Mayor Bottoms’ Executiv
 e Orders  2020-22 and 2020-138\, the meeting will be held telephonicall
 y as authorized by OCGA Section 50-14-1 (g).
URL:/about-us/events/invest-atlanta-economic-development-committee-meeting-
 oct-2020
END:VEVENT
END:VCALENDAR
