BEGIN:VCALENDAR
VERSION:2.0
PRODID:icalendar-ruby
CALSCALE:GREGORIAN
BEGIN:VEVENT
DTSTAMP:20260426T022922Z
UID:50e13aae-3d1f-4a6d-b998-7f9b11f24907
DTSTART:20201029T120000
DTEND:20201029T130000
LOCATION:Invest Atlanta Zoom 
SUMMARY:Connect with representatives from Invest Atlanta and Goldman Sachs
  10\,000 Small Businesses and learn how to strengthen and sustain your b
 usiness with this program designed for growth-oriented businesses. Hear fr
 om an Atlanta-based alum\, followed by a live Q&amp\;A.
URL:/about-us/events/goldman-sachs-10000-small-business-virtual-information
 -session
END:VEVENT
END:VCALENDAR
