BEGIN:VCALENDAR
VERSION:2.0
PRODID:icalendar-ruby
CALSCALE:GREGORIAN
BEGIN:VEVENT
DTSTAMP:20260426T023619Z
UID:52613ef8-20f5-4e58-a2eb-8af79bf8ab22
DTSTART:20201210T140000
DTEND:20201210T150000
LOCATION:Invest Atlanta Zoom 
SUMMARY:Invest Atlanta will hold the Tax Allocation District Project and Po
 licy Review Committee Meeting on Thursday\, December 10\, 2020 commencing 
 at 2:00 p.m.  Due to the current public safety emergency caused by the CO
 VID-19 virus\, as identified by Governor Kemp’s Executive Order 04.02.2
 0.01 and Mayor Bottoms’ Executive Orders  2020-22 and 2020-138\, the
  meeting will be held telephonically as authorized by OCGA Section 50-14-1
  (g).
URL:/about-us/events/invest-atlanta-tax-allocation-district-project-and-pol
 icy-review-committee-dec-2020
END:VEVENT
END:VCALENDAR
